
BEGIN:VCALENDAR
METHOD:PUBLISH
VERSION:2.0
BEGIN:VEVENT

SUMMARY:Achieving climate targets with standards
DESCRIPTION:DIN at the World Climate Change Conference in Dubai
CREATED:Thu Nov 23 14:59:22 CET 2023
DTSTART:Thu Nov 30 00:00:00 CET 2023
DTEND:Tue Dec 12 23:45:00 CET 2023
LOCATION:Virtuell
END:VEVENT
END:VCALENDAR
