
BEGIN:VCALENDAR
METHOD:PUBLISH
VERSION:2.0
BEGIN:VEVENT

SUMMARY:Mit Normen und Standards die Klimaziele umsetzen
DESCRIPTION:DIN auf der Weltklimakonferenz in Dubai
CREATED:Tue Nov 21 09:10:32 CET 2023
DTSTART:Thu Nov 30 00:00:00 CET 2023
DTEND:Tue Dec 12 23:45:00 CET 2023
LOCATION:Virtuell
END:VEVENT
END:VCALENDAR
