
BEGIN:VCALENDAR
METHOD:PUBLISH
VERSION:2.0
BEGIN:VEVENT

SUMMARY:Normung als strategischer Erfolgsfaktor für Verbände
DESCRIPTION:Verbände-Dialog – Online-Infoveranstaltung
CREATED:Mon Apr 20 14:53:24 CEST 2026
DTSTART:Wed Apr 29 09:00:00 CEST 2026
DTEND:Wed Apr 29 11:00:00 CEST 2026
LOCATION:Online
END:VEVENT
END:VCALENDAR
