
BEGIN:VCALENDAR
METHOD:PUBLISH
VERSION:2.0
BEGIN:VEVENT

SUMMARY:ANP-Gemeinschaftssitzung mit 44. KNP
DESCRIPTION:Normen gestalten Zukunft: Energie im Fokus
CREATED:Wed Nov 05 14:32:09 CET 2025
DTSTART:Wed Sep 23 10:00:00 CEST 2026
DTEND:Thu Sep 24 15:00:00 CEST 2026
LOCATION:Ryokan Gelsenkirchen
END:VEVENT
END:VCALENDAR
