
BEGIN:VCALENDAR
METHOD:PUBLISH
VERSION:2.0
BEGIN:VEVENT

SUMMARY:QI Digital Forum 2025
DESCRIPTION:Bits, Bytes und QI - Vertrauen schaffen. Innovation ermöglichen. Wohlstand sichern.
CREATED:Wed May 21 10:58:26 CEST 2025
DTSTART:Wed Oct 08 00:00:00 CEST 2025
DTEND:Thu Oct 09 00:00:00 CEST 2025
LOCATION:PTB in Berlin
END:VEVENT
END:VCALENDAR
