
BEGIN:VCALENDAR
METHOD:PUBLISH
VERSION:2.0
BEGIN:VEVENT

SUMMARY:PFAS im Fokus – Analyse und Wege zu einer schadstofffreien Zukunft
DESCRIPTION:Eine Online-Veranstaltung der Koordinierungsstelle Umweltschutz des DIN e. V.
CREATED:Tue Apr 29 10:44:14 CEST 2025
DTSTART:Wed May 14 10:00:00 CEST 2025
DTEND:Wed May 14 13:00:00 CEST 2025
LOCATION:virtuell
END:VEVENT
END:VCALENDAR
