
BEGIN:VCALENDAR
METHOD:PUBLISH
VERSION:2.0
BEGIN:VEVENT

SUMMARY:Schulung und Qualifizierung für die Circular Economy
DESCRIPTION:Workshop &#034;Von linear zu circular&#034;
CREATED:Thu Apr 17 14:48:52 CEST 2025
DTSTART:Mon May 19 10:00:00 CEST 2025
DTEND:Mon May 19 13:00:00 CEST 2025
LOCATION:virtuell
END:VEVENT
END:VCALENDAR
