
BEGIN:VCALENDAR
METHOD:PUBLISH
VERSION:2.0
BEGIN:VEVENT

SUMMARY:Nachhaltige &amp; Kreislauffähige Veranstaltungen – Bedarfe für die Umsetzung in der Normung
DESCRIPTION:Workshop
CREATED:Mon Apr 07 16:57:52 CEST 2025
DTSTART:Mon May 05 13:00:00 CEST 2025
DTEND:Mon May 05 15:30:00 CEST 2025
LOCATION:virtuell
END:VEVENT
END:VCALENDAR
