
BEGIN:VCALENDAR
METHOD:PUBLISH
VERSION:2.0
BEGIN:VEVENT

SUMMARY:Cybersecurity – Welche Rolle spielen Normen und Standards?
DESCRIPTION:Dialogveranstaltung bei DIN in Berlin
CREATED:Mon Feb 10 10:36:48 CET 2025
DTSTART:Thu Mar 20 12:30:00 CET 2025
DTEND:Thu Mar 20 17:30:00 CET 2025
LOCATION:DIN e. V. in Berlin
END:VEVENT
END:VCALENDAR
