
BEGIN:VCALENDAR
METHOD:PUBLISH
VERSION:2.0
BEGIN:VEVENT

SUMMARY:Workshop „Nachhaltigkeit &amp; ESG – Trends in der Normung“
DESCRIPTION:Der NA 175-00-03 AA &#034;Gesellschaftliche Verantwortung und Nachhaltigkeitsmanagement&#034; lädt ein
CREATED:Tue Jan 28 13:23:14 CET 2025
DTSTART:Thu Feb 13 10:00:00 CET 2025
DTEND:Thu Feb 13 13:00:00 CET 2025
LOCATION:DIN e. V. Berlin
END:VEVENT
END:VCALENDAR
