
BEGIN:VCALENDAR
METHOD:PUBLISH
VERSION:2.0
BEGIN:VEVENT

SUMMARY:Veranstaltungsreihe: Cyberfrühstück
DESCRIPTION:Datenökosysteme/Data Ecosystems
CREATED:Tue Oct 15 11:27:58 CEST 2024
DTSTART:Wed Feb 12 08:00:00 CET 2025
DTEND:Wed Feb 12 08:50:00 CET 2025
LOCATION:virtuell
END:VEVENT
END:VCALENDAR
