
BEGIN:VCALENDAR
METHOD:PUBLISH
VERSION:2.0
BEGIN:VEVENT

SUMMARY:Workshop Klimaanpassung
DESCRIPTION:Infrastruktur – Verkehr, Energie, Bauwesen
CREATED:Thu Jul 25 14:13:54 CEST 2024
DTSTART:Thu Oct 17 10:00:00 CEST 2024
DTEND:Thu Oct 17 16:00:00 CEST 2024
LOCATION:DIN e. V. Berlin
END:VEVENT
END:VCALENDAR
